BEGIN:VCALENDAR
VERSION:2.0
PRODID:-//Frankfurter Juristische Gesellschaft e.V. - ECPv6.15.20//NONSGML v1.0//EN
CALSCALE:GREGORIAN
METHOD:PUBLISH
X-WR-CALNAME:Frankfurter Juristische Gesellschaft e.V.
X-ORIGINAL-URL:https://www.ffjg.de
X-WR-CALDESC:Veranstaltungen für Frankfurter Juristische Gesellschaft e.V.
REFRESH-INTERVAL;VALUE=DURATION:PT1H
X-Robots-Tag:noindex
X-PUBLISHED-TTL:PT1H
BEGIN:VTIMEZONE
TZID:Europe/Paris
BEGIN:DAYLIGHT
TZOFFSETFROM:+0100
TZOFFSETTO:+0200
TZNAME:CEST
DTSTART:20240331T010000
END:DAYLIGHT
BEGIN:STANDARD
TZOFFSETFROM:+0200
TZOFFSETTO:+0100
TZNAME:CET
DTSTART:20241027T010000
END:STANDARD
BEGIN:DAYLIGHT
TZOFFSETFROM:+0100
TZOFFSETTO:+0200
TZNAME:CEST
DTSTART:20250330T010000
END:DAYLIGHT
BEGIN:STANDARD
TZOFFSETFROM:+0200
TZOFFSETTO:+0100
TZNAME:CET
DTSTART:20251026T010000
END:STANDARD
BEGIN:DAYLIGHT
TZOFFSETFROM:+0100
TZOFFSETTO:+0200
TZNAME:CEST
DTSTART:20260329T010000
END:DAYLIGHT
BEGIN:STANDARD
TZOFFSETFROM:+0200
TZOFFSETTO:+0100
TZNAME:CET
DTSTART:20261025T010000
END:STANDARD
END:VTIMEZONE
BEGIN:VEVENT
DTSTART;TZID=Europe/Paris:20250227T181500
DTEND;TZID=Europe/Paris:20250227T203000
DTSTAMP:20260426T030947
CREATED:20250126T212246Z
LAST-MODIFIED:20250126T212246Z
UID:730-1740680100-1740688200@www.ffjg.de
SUMMARY:Werden Wirtschaftsstraften effektiv verfolgt? - Vortrag
DESCRIPTION:E I N L A D U N G \nzum Vortrag  \nvon Oberstaatsanwältin a.D. Anne Brorhilker \nam Donnerstag\, 27.02.2025\, um 1815 Uhr \n„Werden Wirtschaftsstraftaten effektiv verfolgt?„ \nim Gebäude Sprach- und Kulturwissenschaften (SKW)\, Saal B\, auf dem Campus Westend\nder Goethe-Universität Frankfurt. \nAnreise: Vom Hauptbahnhof mit S-Bahnen 1/2/3/4/5/6/8/9 bis Hauptwache\, dann mit der U-Bahn 1/2/3 bis Holzhausenstraße\, dann 10 Min. Fußweg oder mit der S-Bahn 1/2/3/4/5/6 /8/9 bis Konstablerwache\, dann mit dem Bus Linie 36 (Richtung Westbahnhof) bis Uni Campus Westend. \nZum Vortrag\nBei der Verfolgung von Wirtschaftsstraftaten gilt nach Meinung zahlreicher Beobachter häufig das Sprichwort „Die Kleinen hängt man\, die Großen lässt man laufen“. Was sind die Ursachen dafür\, dass gerade Fälle mit hohen Schadenssummen und großer krimineller Energie aus dieser Perspektive oft nicht in ausreichendem Maße verfolgt werden (können) und welche Lösungsansätze gibt es? Der Vortrag geht diesen Fragen nach und beleuchtet sie sowohl auf der Grundlage kriminologischer Forschungsergebnisse als auch langjähriger praktischer Erfahrungen im Bereich der Verfolgung von schweren Wirtschaftsstraftaten. \nZur Referentin\nAnne Brorhilker (geb. 1973) war seit 2002 bei der Staatsanwaltschaft Köln tätig. Sie erlangte durch die Ermittlungen in zahlreichen Cum-Ex-Fällen internationale Bekanntheit. Zuletzt war sie Hauptabteilungsleiterin\, beantragte aber im April 2024 die Entlassung aus dem Beamtenverhältnis\, um sich für grundlegende Aufklärung bei der Verfolgung von Wirtschaftsstraftaten einzusetzen. Seit Juni 2024 ist sie für die Bürgerbewegung Finanzwende e.V. in Berlin als Co-Geschäftsführerin tätig. \nWir freuen uns auf Ihre Teilnahme!\nDer Vorstand \nFJG-Einladung Vortrag Brorhilker 27-2-2025
URL:https://www.ffjg.de/veranstaltung/werden-wirtschaftsstraften-effektiv-verfolgt-vortrag
LOCATION:Goethe Universität\, Campus Westend\, Gebäude Sprach- und Kulturwissenschaften (SKW)\, Saal B\, Grüneburgplatz 1\, Frankfurt am Main\, Hessen\, 60323\, Germany
CATEGORIES:Allgemein,Veranstaltungen der FFJG
ATTACH;FMTTYPE=image/jpeg:https://www.ffjg.de/wp-content/uploads/2020/02/justitia-2597016_1920-e1582926815728.jpg
ORGANIZER;CN="Frankfurter Juristische Gesellschaft e.V.":MAILTO:info@ffjg.de
END:VEVENT
END:VCALENDAR