BEGIN:VCALENDAR
VERSION:2.0
PRODID:-//Frankfurter Juristische Gesellschaft e.V. - ECPv6.15.20//NONSGML v1.0//EN
CALSCALE:GREGORIAN
METHOD:PUBLISH
X-WR-CALNAME:Frankfurter Juristische Gesellschaft e.V.
X-ORIGINAL-URL:https://www.ffjg.de
X-WR-CALDESC:Veranstaltungen für Frankfurter Juristische Gesellschaft e.V.
REFRESH-INTERVAL;VALUE=DURATION:PT1H
X-Robots-Tag:noindex
X-PUBLISHED-TTL:PT1H
BEGIN:VTIMEZONE
TZID:Europe/Paris
BEGIN:DAYLIGHT
TZOFFSETFROM:+0100
TZOFFSETTO:+0200
TZNAME:CEST
DTSTART:20250330T010000
END:DAYLIGHT
BEGIN:STANDARD
TZOFFSETFROM:+0200
TZOFFSETTO:+0100
TZNAME:CET
DTSTART:20251026T010000
END:STANDARD
BEGIN:DAYLIGHT
TZOFFSETFROM:+0100
TZOFFSETTO:+0200
TZNAME:CEST
DTSTART:20260329T010000
END:DAYLIGHT
BEGIN:STANDARD
TZOFFSETFROM:+0200
TZOFFSETTO:+0100
TZNAME:CET
DTSTART:20261025T010000
END:STANDARD
BEGIN:DAYLIGHT
TZOFFSETFROM:+0100
TZOFFSETTO:+0200
TZNAME:CEST
DTSTART:20270328T010000
END:DAYLIGHT
BEGIN:STANDARD
TZOFFSETFROM:+0200
TZOFFSETTO:+0100
TZNAME:CET
DTSTART:20271031T010000
END:STANDARD
END:VTIMEZONE
BEGIN:VEVENT
DTSTART;TZID=Europe/Paris:20260311T181500
DTEND;TZID=Europe/Paris:20260311T200000
DTSTAMP:20260424T142334
CREATED:20260304T093329Z
LAST-MODIFIED:20260304T215315Z
UID:862-1773252900-1773259200@www.ffjg.de
SUMMARY:„Schwerpunkte und Vorhaben in der Rechts- und Justizpolitik“ - Vortrag des Hessischen Ministers der Justiz und für den Rechtsstaat
DESCRIPTION:E I N L A D U N G \nzum Vortrag von \nHerrn Staatsminister Christian Heinz\, Hessischer Minister der Justiz und für den Rechtsstaat \n„Schwerpunkte und Vorhaben in der Rechts- und Justizpolitik“ \nam Mittwoch\, 11. März 2026\, um 18:15 Uhr\, \nim Hörsaalzentrum Hörsaal 3\, Campus Westend der Goethe-Universität Frankfurt \nZum Thema: Nach den Landtagswahlen vom 8. Oktober 2023 ist die Legislaturperiode in Hessen annähernd zur Hälfte vorüber. Der Zeitpunkt bietet Anlass und Gelegenheit\, den Blick zurückschweifen zu lassen und zu rekapitulieren\, welche rechts- und justizpolitischen Themen die legislative Hinrunde in Hessen bestimmt haben und umgesetzt bzw. initiiert werden konnten. Ebenso sehr lohnt der Blick nach vorne auf die kommenden knapp 30 Monate. Welche Schwerpunkte in der Rechts- und Justizpolitik sollen vom Hessischen Ministerium der Justiz und für den Rechtsstaat aus gesetzt werden? Vor welchen Herausforderungen steht die Justiz und wie soll ihnen begegnet werden? \nZum Referenten: Herr Staatsminister Christian Heinz hat an der Johannes-Gutenberg-Universität in Mainz Rechtswissenschaften studiert. Nach dem zweiten juristischen Staatsexamen in Hessen absolvierte er verschiedene Stationen in der hessischen Landesverwaltung\, u.a. in der Hessischen Staatskanzlei\, dem Regierungspräsidium Gießen und beim Landrat des Rheingau-Taunus-Kreises. Er war darüber hinaus Referent für Europaangelegenheiten in der Hessischen Landesvertretung in Berlin und Leiter des Referats Parlaments- und Kabinettsangelegenheiten im Hessischen Ministerium des Innern. Seit 2010 ist Christian Heinz Mitglied des Hessischen Landtags. Er war u.a. Vorsitzender des Rechtsauschusses und rechtspolitischer Sprecher sowie stellvertretender Vorsitzender der CDU-Fraktion. Im Januar 2024 wurde er Hessischer Minister der Justiz und für den Rechtsstaat. \nMit Ihrer Teilnahme an der Veranstaltung erklären Sie sich mit der Anfertigung und möglichen Veröffentlichung von Foto- und Videoaufnahmen einverstanden. Sollten Sie dem nicht zustimmen\, bitten wir Sie\, dies vor Ort mitzuteilen. \nWir freuen uns auf Ihre Teilnahme! \nDer Vorstand \nDr. Daniel Saam\, Amélie Sophie Hamm\, Nicole Wichmann\, Dr. Rembert Niebel\, Dr. Andreas Zubrod\, Dr. Nadia Al-Shamari-Ziegler\, Dr. Claudius Dechamps\, Dr. Stefan Fuhrmann\, Prof. Dr. Matthias Jahn\, Prof. Dr. Felix Maultzsch\, Prof. Dr. Dr.h.c. Cornelius Prittwitz\, Prof. Dr. Dr.h.c. Joachim Rückert\, Dr. Moritz von Schenck\, Dr. Daniel Wegerich \n20260311 Einladung HStMdJ
URL:https://www.ffjg.de/veranstaltung/schwerpunkte-und-vorhaben-in-der-rechts-und-justizpolitik-vortrag-des-hessischen-ministers-der-justiz-und-fuer-den-rechtsstaat
LOCATION:Goethe Universität\, Campus Westend\, Hörsaalzentrum\, Hörsaal 3
CATEGORIES:Allgemein,Veranstaltungen der FFJG,Veranstatlungen der FFJG
ATTACH;FMTTYPE=image/png:https://www.ffjg.de/wp-content/uploads/2026/03/PNG-Bild.png
ORGANIZER;CN="Frankfurter Juristische Gesellschaft e.V.":MAILTO:info@ffjg.de
END:VEVENT
END:VCALENDAR