BEGIN:VCALENDAR
VERSION:2.0
PRODID:-//Frankfurter Juristische Gesellschaft e.V. - ECPv6.15.20//NONSGML v1.0//EN
CALSCALE:GREGORIAN
METHOD:PUBLISH
X-ORIGINAL-URL:https://www.ffjg.de
X-WR-CALDESC:Veranstaltungen für Frankfurter Juristische Gesellschaft e.V.
REFRESH-INTERVAL;VALUE=DURATION:PT1H
X-Robots-Tag:noindex
X-PUBLISHED-TTL:PT1H
BEGIN:VTIMEZONE
TZID:Europe/Paris
BEGIN:DAYLIGHT
TZOFFSETFROM:+0100
TZOFFSETTO:+0200
TZNAME:CEST
DTSTART:20230326T010000
END:DAYLIGHT
BEGIN:STANDARD
TZOFFSETFROM:+0200
TZOFFSETTO:+0100
TZNAME:CET
DTSTART:20231029T010000
END:STANDARD
BEGIN:DAYLIGHT
TZOFFSETFROM:+0100
TZOFFSETTO:+0200
TZNAME:CEST
DTSTART:20240331T010000
END:DAYLIGHT
BEGIN:STANDARD
TZOFFSETFROM:+0200
TZOFFSETTO:+0100
TZNAME:CET
DTSTART:20241027T010000
END:STANDARD
BEGIN:DAYLIGHT
TZOFFSETFROM:+0100
TZOFFSETTO:+0200
TZNAME:CEST
DTSTART:20250330T010000
END:DAYLIGHT
BEGIN:STANDARD
TZOFFSETFROM:+0200
TZOFFSETTO:+0100
TZNAME:CET
DTSTART:20251026T010000
END:STANDARD
END:VTIMEZONE
BEGIN:VEVENT
DTSTART;TZID=Europe/Paris:20241121T183000
DTEND;TZID=Europe/Paris:20241121T210000
DTSTAMP:20260424T125452
CREATED:20241110T185028Z
LAST-MODIFIED:20241110T185028Z
UID:707-1732213800-1732222800@www.ffjg.de
SUMMARY:„Wohnungslos - Obdachlos?“ - Gesprächsabend im Museum Giersch
DESCRIPTION:E I N L A D U N G \nzum Gesprächsabend am \nDonnerstag\, 21. November 2024\, um 18:30 Uhr \nmit Jana Sophia Nolle (Künstlerin)\, Anna-Katharina König (Doktorandin\nFAU Erlangen-Nürnberg) und Christine Heinrichs (Frankfurter Verein für\nsoziale Heimstätten)\, \nmoderiert von Dr. Sarah Tacke (Leiterin ZDF-Redaktion Recht und Justiz) \nzum Thema \nW o h n u n g s l o s – O b d a c h l o s ? \nim Museum Giersch am Museumsufer\, Schaumainkai 83\, 60596 Frankfurt\,\nmit öffentlichen Verkehrsmitteln: Tram 12/15/16/17/21\, Halt: Stresemannallee/Gartenstraße; U-Bahn U1/2/3/8; Halt: Schweizer Platz; Fußweg vom Hbf. 15 Min.; mit\ndem Auto: Parkhäuser Walter-Kolb-Straße 16 (Sachsenhausen)\, Willy-Brandt-Platz 5 (Schauspiel) oder Untermainanlage 1 \nZum Gesprächsabend:\nAusgehend von der künstlerischen Arbeit Jana Sophia Nolles möchte der Abend dazu einladen\, Wohnungs- und Obdachlosigkeit\, im Frankfurter Kontext und darüber hinaus\, aus verschiedenen Perspektiven zu betrachten und darüber in den Austausch zu kommen. Die Künstlerin hat in fotografischen Projekten seit 2018 in San Francisco und in Berlin mit obdachlosen Menschen zusammengearbeitet. Anna-Katharina König\, die über urbane Ungleichheit aus verfassungsrechtlicher Perspektive promoviert\, wird Perspektiven auf\nstädtische Ausgrenzungsprozesse einbringen\, mit denen Christine Heinrichs\, stellvertretende Geschäftsführerin des Frankfurter Vereins e.V.\, praktische Erfahrung hat. Moderiert wird der Abend von Dr. Sarah Tacke\, Rechts- und Verbraucherschutzexpertin des ZDF. \nDas Podium \nJana Sophia Nolle\, Künstlerin aus Berlin\, ihre Praxis ist multidisziplinär und bewegt sich an der Schnittstelle von Recherche\, Beobachtung und Dokumentation sowie Fotografie und Installation. \nAnna-Katharina König\, wissenschaftliche Mitarbeiterin an der Professur für Öffentliches Recht\, Migrationsrecht und Menschenrechte der FAU Erlangen-Nürnberg. Sie promoviert im Elitenetzwerk Bayern verfassungsvergleichend zu urbanen Ausgrenzungs- und Segregationsprozessen. \nChristine Heinrichs\, Bereichsleiterin beim Frankfurter Verein für soziale Heimstätten. Der Verein mit Sitz im Bahnhofsviertel ist einer der größten Träger der Sozialarbeit in Frankfurt am Main und organisiert u.a. Angebote wie den Kältebus und Winterübernachtungen für Wohnsitzlose. \nDr. Sarah Tacke\, in Hamburg 2009 im Medienrecht promoviert\, leitet die Rechtsredaktion des ZDF und moderiert u.a. das Magazin WISO – Wirtschaft und Soziales. Ihre rechtlichen Einordnungen und Einschätzungen zu politischen und gesellschaftlichen Entwicklungen und den Entscheidungen der obersten Gerichte sind in allen Formaten vom Morgenmagazin bis zum heute journal zu sehen. \nWir freuen uns auf Ihre Teilnahme! \nDer Vorstand\nProf. Dr. Matthias Jahn\, Prof. Dr. Dr.h.c. Joachim Rückert\, Prof. Dr. Dr.h.c. Cornelius Prittwitz\, Dr. Claudius Dechamps\, Dr. Nadia Al-Shamari-Ziegler\, Dr. Stefan Fuhrmann\, Amélie Sophie Hamm\, Prof. Dr. Felix Maultzsch\, Dr. Rembert Niebel\, Dr. Daniel Saam\, Dr. Moritz von Schenck\, Dr. Daniel Wegerich\, Nicole Wichmann\, Dr. Andreas Zubrod \nFJG-Einladung Diskussionsabend Museum Giersch 21.11.2024
URL:https://www.ffjg.de/veranstaltung/wohnungslos-obdachlos-gespraechsabend-im-museum-giersch
LOCATION:Museum Giersch\, Schaumainkai 83\, 60596 Frankfurt
CATEGORIES:Allgemein,Veranstaltungen der FFJG
ATTACH;FMTTYPE=image/jpeg:https://www.ffjg.de/wp-content/uploads/2024/05/AdobeStock_54098775-scaled.jpeg
ORGANIZER;CN="Frankfurter Juristische Gesellschaft e.V.":MAILTO:info@ffjg.de
END:VEVENT
END:VCALENDAR